BEGIN:VCALENDAR
VERSION:2.0
PRODID:-//Corridas de Rua - RS - ECPv4.5.7//NONSGML v1.0//EN
CALSCALE:GREGORIAN
METHOD:PUBLISH
X-WR-CALNAME:Corridas de Rua - RS
X-ORIGINAL-URL:https://corridasderuars.com.br
X-WR-CALDESC:Events for Corridas de Rua - RS
BEGIN:VEVENT
DTSTART;TZID=UTC+0:20190428T083000
DTEND;TZID=UTC+0:20190428T083000
DTSTAMP:20260420T040800
CREATED:20190327T170440Z
LAST-MODIFIED:20190327T170440Z
UID:4990-1556440200-1556440200@corridasderuars.com.br
SUMMARY:2ª Rústica dos Contabilistas de Ijuí
DESCRIPTION:
URL:https://corridasderuars.com.br/evento/2a-rustica-dos-contabilistas-de-ijui/
CATEGORIES:2km,5km
ATTACH;FMTTYPE=image/jpeg:https://corridasderuars.com.br/wp-content/uploads/2017/12/bg63.jpg
END:VEVENT
END:VCALENDAR