BEGIN:VCALENDAR
VERSION:2.0
PRODID:-//Corridas de Rua - RS - ECPv4.5.7//NONSGML v1.0//EN
CALSCALE:GREGORIAN
METHOD:PUBLISH
X-WR-CALNAME:Corridas de Rua - RS
X-ORIGINAL-URL:https://corridasderuars.com.br
X-WR-CALDESC:Events for Corridas de Rua - RS
BEGIN:VEVENT
DTSTART;TZID=UTC+0:20181012T090000
DTEND;TZID=UTC+0:20181012T090000
DTSTAMP:20260420T003423
CREATED:20180706T173045Z
LAST-MODIFIED:20180706T173045Z
UID:4005-1539334800-1539334800@corridasderuars.com.br
SUMMARY:2ª Rústica do Mate
DESCRIPTION:
URL:https://corridasderuars.com.br/evento/2a-rustica-do-mate/
CATEGORIES:5km
ATTACH;FMTTYPE=image/jpeg:https://corridasderuars.com.br/wp-content/uploads/2017/12/bg61.jpg
END:VEVENT
END:VCALENDAR