BEGIN:VCALENDAR
VERSION:2.0
PRODID:-//Corridas de Rua - RS - ECPv4.5.7//NONSGML v1.0//EN
CALSCALE:GREGORIAN
METHOD:PUBLISH
X-WR-CALNAME:Corridas de Rua - RS
X-ORIGINAL-URL:https://corridasderuars.com.br
X-WR-CALDESC:Events for Corridas de Rua - RS
BEGIN:VEVENT
DTSTART;TZID=UTC+0:20170923T170000
DTEND;TZID=UTC+0:20170923T170000
DTSTAMP:20260420T035154
CREATED:20170912T112852Z
LAST-MODIFIED:20170912T112852Z
UID:2797-1506186000-1506186000@corridasderuars.com.br
SUMMARY:2ª RÚSTICA DO COLÉGIO TIRADENTES DA BRIGADA MILITAR
DESCRIPTION:
URL:https://corridasderuars.com.br/evento/2a-rustica-do-colegio-tiradentes-da-brigada-militar/
CATEGORIES:2.4km,5.8km
ATTACH;FMTTYPE=image/jpeg:https://corridasderuars.com.br/wp-content/uploads/2017/07/bg10-1.jpg
END:VEVENT
END:VCALENDAR