BEGIN:VCALENDAR
VERSION:2.0
PRODID:-//Corridas de Rua - RS - ECPv4.5.7//NONSGML v1.0//EN
CALSCALE:GREGORIAN
METHOD:PUBLISH
X-WR-CALNAME:Corridas de Rua - RS
X-ORIGINAL-URL:https://corridasderuars.com.br
X-WR-CALDESC:Events for Corridas de Rua - RS
BEGIN:VEVENT
DTSTART;TZID=UTC+0:20180909T090000
DTEND;TZID=UTC+0:20180909T090000
DTSTAMP:20260419T200757
CREATED:20180814T181441Z
LAST-MODIFIED:20180814T181441Z
UID:4141-1536483600-1536483600@corridasderuars.com.br
SUMMARY:2ª Rústica de Aniversário de Tuparendi
DESCRIPTION:
URL:https://corridasderuars.com.br/evento/2a-rustica-de-aniversario-de-tuparendi/
CATEGORIES:1km,2km,5km
ATTACH;FMTTYPE=image/jpeg:https://corridasderuars.com.br/wp-content/uploads/2017/07/bg9-1.jpg
END:VEVENT
END:VCALENDAR