BEGIN:VCALENDAR
VERSION:2.0
PRODID:-//Corridas de Rua - RS - ECPv4.5.7//NONSGML v1.0//EN
CALSCALE:GREGORIAN
METHOD:PUBLISH
X-WR-CALNAME:Corridas de Rua - RS
X-ORIGINAL-URL:https://corridasderuars.com.br
X-WR-CALDESC:Events for Corridas de Rua - RS
BEGIN:VEVENT
DTSTART;TZID=UTC+0:20181104T080000
DTEND;TZID=UTC+0:20181104T080000
DTSTAMP:20260419T201235
CREATED:20180911T111119Z
LAST-MODIFIED:20180911T111147Z
UID:4238-1541318400-1541318400@corridasderuars.com.br
SUMMARY:2ª Rústica Bem Estar
DESCRIPTION:
URL:https://corridasderuars.com.br/evento/2a-rustica-bem-estar/
CATEGORIES:3km,8.6km
ATTACH;FMTTYPE=image/jpeg:https://corridasderuars.com.br/wp-content/uploads/2017/07/bg22-1.jpg
END:VEVENT
END:VCALENDAR