BEGIN:VCALENDAR
VERSION:2.0
PRODID:-//Corridas de Rua - RS - ECPv4.5.7//NONSGML v1.0//EN
CALSCALE:GREGORIAN
METHOD:PUBLISH
X-WR-CALNAME:Corridas de Rua - RS
X-ORIGINAL-URL:https://corridasderuars.com.br
X-WR-CALDESC:Events for Corridas de Rua - RS
BEGIN:VEVENT
DTSTART;TZID=UTC+0:20180728T093000
DTEND;TZID=UTC+0:20180728T093000
DTSTAMP:20260419T213651
CREATED:20180611T112425Z
LAST-MODIFIED:20180611T112425Z
UID:3943-1532770200-1532770200@corridasderuars.com.br
SUMMARY:2ª PHD Fit Running
DESCRIPTION:
URL:https://corridasderuars.com.br/evento/2a-phd-fit-running/
CATEGORIES:2.5km,5km
ATTACH;FMTTYPE=image/jpeg:https://corridasderuars.com.br/wp-content/uploads/2017/07/bg27-1.jpg
END:VEVENT
END:VCALENDAR