BEGIN:VCALENDAR
VERSION:2.0
PRODID:-//Corridas de Rua - RS - ECPv4.5.7//NONSGML v1.0//EN
CALSCALE:GREGORIAN
METHOD:PUBLISH
X-WR-CALNAME:Corridas de Rua - RS
X-ORIGINAL-URL:https://corridasderuars.com.br
X-WR-CALDESC:Events for Corridas de Rua - RS
BEGIN:VEVENT
DTSTART;TZID=UTC+0:20171022T080000
DTEND;TZID=UTC+0:20171022T080000
DTSTAMP:20260420T082526
CREATED:20170711T210657Z
LAST-MODIFIED:20170711T210657Z
UID:2457-1508659200-1508659200@corridasderuars.com.br
SUMMARY:2ª Meia Maratona Intermunicipal
DESCRIPTION:
URL:https://corridasderuars.com.br/evento/2a-meia-maratona-intermunicipal/
CATEGORIES:21km,6km
ATTACH;FMTTYPE=image/jpeg:https://corridasderuars.com.br/wp-content/uploads/2017/07/bg1-1.jpg
END:VEVENT
END:VCALENDAR