BEGIN:VCALENDAR
VERSION:2.0
PRODID:-//Corridas de Rua - RS - ECPv4.5.7//NONSGML v1.0//EN
CALSCALE:GREGORIAN
METHOD:PUBLISH
X-WR-CALNAME:Corridas de Rua - RS
X-ORIGINAL-URL:https://corridasderuars.com.br
X-WR-CALDESC:Events for Corridas de Rua - RS
BEGIN:VEVENT
DTSTART;TZID=UTC+0:20210620T000000
DTEND;TZID=UTC+0:20210620T000000
DTSTAMP:20260421T100837
CREATED:20210428T164825Z
LAST-MODIFIED:20210714T201516Z
UID:7122-1624147200-1624147200@corridasderuars.com.br
SUMMARY:2ª Maratona Internacional de Porto Alegre – Desafio Virtual
DESCRIPTION:
URL:https://corridasderuars.com.br/evento/2a-maratona-internacional-de-porto-alegre-desafio-virtual/
CATEGORIES:10km,21km,42km,5km
ATTACH;FMTTYPE=image/jpeg:https://corridasderuars.com.br/wp-content/uploads/2017/12/bg57.jpg
END:VEVENT
END:VCALENDAR