BEGIN:VCALENDAR
VERSION:2.0
PRODID:-//Corridas de Rua - RS - ECPv4.5.7//NONSGML v1.0//EN
CALSCALE:GREGORIAN
METHOD:PUBLISH
X-WR-CALNAME:Corridas de Rua - RS
X-ORIGINAL-URL:https://corridasderuars.com.br
X-WR-CALDESC:Events for Corridas de Rua - RS
BEGIN:VEVENT
DTSTART;TZID=UTC+0:20190414T080000
DTEND;TZID=UTC+0:20190414T080000
DTSTAMP:20260420T033058
CREATED:20190325T172746Z
LAST-MODIFIED:20190325T172746Z
UID:4965-1555228800-1555228800@corridasderuars.com.br
SUMMARY:2ª Corrida pelo Fim da Pólio
DESCRIPTION:
URL:https://corridasderuars.com.br/evento/2a-corrida-pelo-fim-da-polio/
CATEGORIES:5km
ATTACH;FMTTYPE=image/jpeg:https://corridasderuars.com.br/wp-content/uploads/2018/10/bg74.jpg
END:VEVENT
END:VCALENDAR