BEGIN:VCALENDAR
VERSION:2.0
PRODID:-//Corridas de Rua - RS - ECPv4.5.7//NONSGML v1.0//EN
CALSCALE:GREGORIAN
METHOD:PUBLISH
X-WR-CALNAME:Corridas de Rua - RS
X-ORIGINAL-URL:https://corridasderuars.com.br
X-WR-CALDESC:Events for Corridas de Rua - RS
BEGIN:VEVENT
DTSTART;TZID=UTC+0:20190518T160000
DTEND;TZID=UTC+0:20190518T160000
DTSTAMP:20260420T083704
CREATED:20190424T182548Z
LAST-MODIFIED:20190424T182548Z
UID:5086-1558195200-1558195200@corridasderuars.com.br
SUMMARY:2ª Corrida do Trigo - Cross Running
DESCRIPTION:
URL:https://corridasderuars.com.br/evento/2a-corrida-do-trigo-cross-running/
CATEGORIES:5km
ATTACH;FMTTYPE=image/jpeg:https://corridasderuars.com.br/wp-content/uploads/2017/12/bg55.jpg
END:VEVENT
END:VCALENDAR