BEGIN:VCALENDAR
VERSION:2.0
PRODID:-//Corridas de Rua - RS - ECPv4.5.7//NONSGML v1.0//EN
CALSCALE:GREGORIAN
METHOD:PUBLISH
X-WR-CALNAME:Corridas de Rua - RS
X-ORIGINAL-URL:https://corridasderuars.com.br
X-WR-CALDESC:Events for Corridas de Rua - RS
BEGIN:VEVENT
DTSTART;TZID=UTC+0:20180630T133000
DTEND;TZID=UTC+0:20180630T133000
DTSTAMP:20260419T214253
CREATED:20171110T171653Z
LAST-MODIFIED:20180614T112547Z
UID:3123-1530365400-1530365400@corridasderuars.com.br
SUMMARY:2ª Circuito Trail Estações - Trail Inverno
DESCRIPTION:
URL:https://corridasderuars.com.br/evento/2a-circuito-trail-estacoes-trail-inverno/
CATEGORIES:16km,3km,9km
ATTACH;FMTTYPE=image/jpeg:https://corridasderuars.com.br/wp-content/uploads/2017/07/bg26-1.jpg
END:VEVENT
END:VCALENDAR