BEGIN:VCALENDAR
VERSION:2.0
PRODID:-//Corridas de Rua - RS - ECPv4.5.7//NONSGML v1.0//EN
CALSCALE:GREGORIAN
METHOD:PUBLISH
X-WR-CALNAME:Corridas de Rua - RS
X-ORIGINAL-URL:https://corridasderuars.com.br
X-WR-CALDESC:Events for Corridas de Rua - RS
BEGIN:VEVENT
DTSTART;TZID=UTC+0:20260523T060000
DTEND;TZID=UTC+0:20260523T060000
DTSTAMP:20260421T095711
CREATED:20260413T115418Z
LAST-MODIFIED:20260413T115418Z
UID:14231-1779516000-1779516000@corridasderuars.com.br
SUMMARY:2ª Caminhada Sest Senat Caravaggio
DESCRIPTION:
URL:https://corridasderuars.com.br/evento/2a-caminhada-sest-senat-caravaggio/
CATEGORIES:17km
ATTACH;FMTTYPE=image/jpeg:https://corridasderuars.com.br/wp-content/uploads/2023/01/hgjgh.jpg
END:VEVENT
END:VCALENDAR