BEGIN:VCALENDAR
VERSION:2.0
PRODID:-//Corridas de Rua - RS - ECPv4.5.7//NONSGML v1.0//EN
CALSCALE:GREGORIAN
METHOD:PUBLISH
X-WR-CALNAME:Corridas de Rua - RS
X-ORIGINAL-URL:https://corridasderuars.com.br
X-WR-CALDESC:Events for Corridas de Rua - RS
BEGIN:VEVENT
DTSTART;TZID=UTC+0:20190217T073000
DTEND;TZID=UTC+0:20190217T073000
DTSTAMP:20260421T085109
CREATED:20190121T131209Z
LAST-MODIFIED:20190121T131209Z
UID:4716-1550388600-1550388600@corridasderuars.com.br
SUMMARY:2ª Caminhada Sesc Erechim
DESCRIPTION:
URL:https://corridasderuars.com.br/evento/2a-caminhada-sesc-erechim/
ATTACH;FMTTYPE=image/jpeg:https://corridasderuars.com.br/wp-content/uploads/2017/07/bg37.jpg
END:VEVENT
END:VCALENDAR