BEGIN:VCALENDAR
VERSION:2.0
PRODID:-//Corridas de Rua - RS - ECPv4.5.7//NONSGML v1.0//EN
CALSCALE:GREGORIAN
METHOD:PUBLISH
X-WR-CALNAME:Corridas de Rua - RS
X-ORIGINAL-URL:https://corridasderuars.com.br
X-WR-CALDESC:Events for Corridas de Rua - RS
BEGIN:VEVENT
DTSTART;TZID=UTC+0:20181201T190000
DTEND;TZID=UTC+0:20181201T190000
DTSTAMP:20260419T232851
CREATED:20181018T170908Z
LAST-MODIFIED:20181116T134530Z
UID:4393-1543690800-1543690800@corridasderuars.com.br
SUMMARY:29° Rústica de Natal
DESCRIPTION:
URL:https://corridasderuars.com.br/evento/29-rustica-de-natal-2018/
CATEGORIES:4km,8km
ATTACH;FMTTYPE=image/jpeg:https://corridasderuars.com.br/wp-content/uploads/2018/10/bg87.jpg
END:VEVENT
END:VCALENDAR