BEGIN:VCALENDAR
VERSION:2.0
PRODID:-//Corridas de Rua - RS - ECPv4.5.7//NONSGML v1.0//EN
CALSCALE:GREGORIAN
METHOD:PUBLISH
X-WR-CALNAME:Corridas de Rua - RS
X-ORIGINAL-URL:https://corridasderuars.com.br
X-WR-CALDESC:Events for Corridas de Rua - RS
BEGIN:VEVENT
DTSTART;TZID=UTC+0:20180708T080000
DTEND;TZID=UTC+0:20180708T080000
DTSTAMP:20260419T231826
CREATED:20180424T181332Z
LAST-MODIFIED:20180424T181332Z
UID:3800-1531036800-1531036800@corridasderuars.com.br
SUMMARY:26ª Rústica do Festival Nacional do Peixe
DESCRIPTION:
URL:https://corridasderuars.com.br/evento/26a-rustica-do-festival-nacional-do-peixe/
CATEGORIES:4km,6km
ATTACH;FMTTYPE=image/jpeg:https://corridasderuars.com.br/wp-content/uploads/2017/07/bg20-1.jpg
END:VEVENT
END:VCALENDAR