BEGIN:VCALENDAR
VERSION:2.0
PRODID:-//Corridas de Rua - RS - ECPv4.5.7//NONSGML v1.0//EN
CALSCALE:GREGORIAN
METHOD:PUBLISH
X-WR-CALNAME:Corridas de Rua - RS
X-ORIGINAL-URL:https://corridasderuars.com.br
X-WR-CALDESC:Events for Corridas de Rua - RS
BEGIN:VEVENT
DTSTART;TZID=UTC+0:20190818T080000
DTEND;TZID=UTC+0:20190818T080000
DTSTAMP:20260421T084156
CREATED:20190218T123503Z
LAST-MODIFIED:20190218T123503Z
UID:4856-1566115200-1566115200@corridasderuars.com.br
SUMMARY:24ª Meia Maratona Internacional de Uruguaiana
DESCRIPTION:
URL:https://corridasderuars.com.br/evento/24a-meia-maratona-internacional-de-uruguaiana/
CATEGORIES:10km,21km,3km
ATTACH;FMTTYPE=image/jpeg:https://corridasderuars.com.br/wp-content/uploads/2017/12/bg54.jpg
END:VEVENT
END:VCALENDAR