BEGIN:VCALENDAR
VERSION:2.0
PRODID:-//Corridas de Rua - RS - ECPv4.5.7//NONSGML v1.0//EN
CALSCALE:GREGORIAN
METHOD:PUBLISH
X-WR-CALNAME:Corridas de Rua - RS
X-ORIGINAL-URL:https://corridasderuars.com.br
X-WR-CALDESC:Events for Corridas de Rua - RS
BEGIN:VEVENT
DTSTART;TZID=UTC+0:20170820T080000
DTEND;TZID=UTC+0:20170820T080000
DTSTAMP:20260420T065816
CREATED:20170710T184417Z
LAST-MODIFIED:20170710T184417Z
UID:2369-1503216000-1503216000@corridasderuars.com.br
SUMMARY:22ª Meia Maratona Internacional de Uruguaiana
DESCRIPTION:
URL:https://corridasderuars.com.br/evento/22a-meia-maratona-internacional-de-uruguaiana/
CATEGORIES:10km,21km,3km
ATTACH;FMTTYPE=image/jpeg:https://corridasderuars.com.br/wp-content/uploads/2017/07/bg13-1.jpg
END:VEVENT
END:VCALENDAR