BEGIN:VCALENDAR
VERSION:2.0
PRODID:-//Corridas de Rua - RS - ECPv4.5.7//NONSGML v1.0//EN
CALSCALE:GREGORIAN
METHOD:PUBLISH
X-WR-CALNAME:Corridas de Rua - RS
X-ORIGINAL-URL:https://corridasderuars.com.br
X-WR-CALDESC:Events for Corridas de Rua - RS
BEGIN:VEVENT
DTSTART;TZID=UTC+0:20171021T140000
DTEND;TZID=UTC+0:20171021T140000
DTSTAMP:20260420T070932
CREATED:20171002T130324Z
LAST-MODIFIED:20171002T130404Z
UID:2884-1508594400-1508594400@corridasderuars.com.br
SUMMARY:21km Sesc e Cidreira
DESCRIPTION:
URL:https://corridasderuars.com.br/evento/21km-sesc-e-cidreira/
CATEGORIES:21km
ATTACH;FMTTYPE=image/jpeg:https://corridasderuars.com.br/wp-content/uploads/2017/07/bg36.jpg
END:VEVENT
END:VCALENDAR