BEGIN:VCALENDAR
VERSION:2.0
PRODID:-//Corridas de Rua - RS - ECPv4.5.7//NONSGML v1.0//EN
CALSCALE:GREGORIAN
METHOD:PUBLISH
X-WR-CALNAME:Corridas de Rua - RS
X-ORIGINAL-URL:https://corridasderuars.com.br
X-WR-CALDESC:Events for Corridas de Rua - RS
BEGIN:VEVENT
DTSTART;TZID=UTC+0:20170903T080000
DTEND;TZID=UTC+0:20170903T080000
DTSTAMP:20260420T051536
CREATED:20170710T192229Z
LAST-MODIFIED:20170710T192229Z
UID:2393-1504425600-1504425600@corridasderuars.com.br
SUMMARY:21K Tramandaí Beach
DESCRIPTION:
URL:https://corridasderuars.com.br/evento/21k-tramandai-beach/
CATEGORIES:21km,3km
ATTACH;FMTTYPE=image/jpeg:https://corridasderuars.com.br/wp-content/uploads/2017/07/bgPraia.jpg
END:VEVENT
END:VCALENDAR