BEGIN:VCALENDAR
VERSION:2.0
PRODID:-//Corridas de Rua - RS - ECPv4.5.7//NONSGML v1.0//EN
CALSCALE:GREGORIAN
METHOD:PUBLISH
X-WR-CALNAME:Corridas de Rua - RS
X-ORIGINAL-URL:https://corridasderuars.com.br
X-WR-CALDESC:Events for Corridas de Rua - RS
BEGIN:VEVENT
DTSTART;TZID=UTC+0:20180804T140000
DTEND;TZID=UTC+0:20180804T140000
DTSTAMP:20260419T231548
CREATED:20180712T152345Z
LAST-MODIFIED:20180712T152408Z
UID:4022-1533391200-1533391200@corridasderuars.com.br
SUMMARY:Copa Gaúcha de Canicross - 2° Etapa
DESCRIPTION:
URL:https://corridasderuars.com.br/evento/2-etapa-copa-gaucha-de-canicross/
CATEGORIES:1km,2km,4km
ATTACH;FMTTYPE=image/jpeg:https://corridasderuars.com.br/wp-content/uploads/2017/07/bgCao.jpg
END:VEVENT
END:VCALENDAR