BEGIN:VCALENDAR
VERSION:2.0
PRODID:-//Corridas de Rua - RS - ECPv4.5.7//NONSGML v1.0//EN
CALSCALE:GREGORIAN
METHOD:PUBLISH
X-WR-CALNAME:Corridas de Rua - RS
X-ORIGINAL-URL:https://corridasderuars.com.br
X-WR-CALDESC:Events for Corridas de Rua - RS
BEGIN:VEVENT
DTSTART;TZID=UTC+0:20171217T090000
DTEND;TZID=UTC+0:20171217T090000
DTSTAMP:20260420T054135
CREATED:20171025T184331Z
LAST-MODIFIED:20171204T180722Z
UID:2973-1513501200-1513501200@corridasderuars.com.br
SUMMARY:1º Trail Run - Volta de Montenegro
DESCRIPTION:
URL:https://corridasderuars.com.br/evento/1o-trail-run-volta-de-montenegro/
CATEGORIES:12km
ATTACH;FMTTYPE=image/jpeg:https://corridasderuars.com.br/wp-content/uploads/2017/12/bg44.jpg
END:VEVENT
END:VCALENDAR