BEGIN:VCALENDAR
VERSION:2.0
PRODID:-//Corridas de Rua - RS - ECPv4.5.7//NONSGML v1.0//EN
CALSCALE:GREGORIAN
METHOD:PUBLISH
X-WR-CALNAME:Corridas de Rua - RS
X-ORIGINAL-URL:https://corridasderuars.com.br
X-WR-CALDESC:Events for Corridas de Rua - RS
BEGIN:VEVENT
DTSTART;TZID=UTC+0:20211024T083000
DTEND;TZID=UTC+0:20211024T170000
DTSTAMP:20260421T102536
CREATED:20210913T130127Z
LAST-MODIFIED:20210913T130127Z
UID:7356-1635064200-1635094800@corridasderuars.com.br
SUMMARY:1º Rústica Alusiva ao Dia da Força Aérea
DESCRIPTION:
URL:https://corridasderuars.com.br/evento/1o-rustica-alusiva-ao-dia-da-forca-aerea/
CATEGORIES:3km,6km
ATTACH;FMTTYPE=image/jpeg:https://corridasderuars.com.br/wp-content/uploads/2019/08/bg213.jpg
END:VEVENT
END:VCALENDAR