BEGIN:VCALENDAR
VERSION:2.0
PRODID:-//Corridas de Rua - RS - ECPv4.5.7//NONSGML v1.0//EN
CALSCALE:GREGORIAN
METHOD:PUBLISH
X-WR-CALNAME:Corridas de Rua - RS
X-ORIGINAL-URL:https://corridasderuars.com.br
X-WR-CALDESC:Events for Corridas de Rua - RS
BEGIN:VEVENT
DTSTART;TZID=UTC+0:20260516T150000
DTEND;TZID=UTC+0:20260516T150000
DTSTAMP:20260425T030842
CREATED:20260424T121804Z
LAST-MODIFIED:20260424T121804Z
UID:14291-1778943600-1778943600@corridasderuars.com.br
SUMMARY:1º Dope Vibe Trilha
DESCRIPTION:
URL:https://corridasderuars.com.br/evento/1o-dope-vibe-trilha/
CATEGORIES:8km
ATTACH;FMTTYPE=image/jpeg:https://corridasderuars.com.br/wp-content/uploads/2017/12/bg48.jpg
END:VEVENT
END:VCALENDAR