BEGIN:VCALENDAR
VERSION:2.0
PRODID:-//Corridas de Rua - RS - ECPv4.5.7//NONSGML v1.0//EN
CALSCALE:GREGORIAN
METHOD:PUBLISH
X-WR-CALNAME:Corridas de Rua - RS
X-ORIGINAL-URL:https://corridasderuars.com.br
X-WR-CALDESC:Events for Corridas de Rua - RS
BEGIN:VEVENT
DTSTART;TZID=UTC+0:20170805T160000
DTEND;TZID=UTC+0:20170805T160000
DTSTAMP:20260420T040512
CREATED:20170717T181639Z
LAST-MODIFIED:20170717T181639Z
UID:2546-1501948800-1501948800@corridasderuars.com.br
SUMMARY:1º Corrida Solidária ADAE
DESCRIPTION:
URL:https://corridasderuars.com.br/evento/1o-corrida-solidaria-adae/
CATEGORIES:3.5km,6km
ATTACH;FMTTYPE=image/jpeg:https://corridasderuars.com.br/wp-content/uploads/2017/07/bg11-1.jpg
END:VEVENT
END:VCALENDAR