BEGIN:VCALENDAR
VERSION:2.0
PRODID:-//Corridas de Rua - RS - ECPv4.5.7//NONSGML v1.0//EN
CALSCALE:GREGORIAN
METHOD:PUBLISH
X-WR-CALNAME:Corridas de Rua - RS
X-ORIGINAL-URL:https://corridasderuars.com.br
X-WR-CALDESC:Events for Corridas de Rua - RS
BEGIN:VEVENT
DTSTART;TZID=UTC+0:20171115T090000
DTEND;TZID=UTC+0:20171115T090000
DTSTAMP:20260420T065815
CREATED:20170927T130132Z
LAST-MODIFIED:20170927T130132Z
UID:2874-1510736400-1510736400@corridasderuars.com.br
SUMMARY:1º Corrida Rústica em Comemoração aos 180 anos da Brigada Militar
DESCRIPTION:
URL:https://corridasderuars.com.br/evento/1o-corrida-rustica-em-comemoracao-aos-180-anos-da-brigada-militar/
CATEGORIES:5km
ATTACH;FMTTYPE=image/jpeg:https://corridasderuars.com.br/wp-content/uploads/2017/07/bg28-1.jpg
END:VEVENT
END:VCALENDAR