BEGIN:VCALENDAR
VERSION:2.0
PRODID:-//Corridas de Rua - RS - ECPv4.5.7//NONSGML v1.0//EN
CALSCALE:GREGORIAN
METHOD:PUBLISH
X-WR-CALNAME:Corridas de Rua - RS
X-ORIGINAL-URL:https://corridasderuars.com.br
X-WR-CALDESC:Events for Corridas de Rua - RS
BEGIN:VEVENT
DTSTART;TZID=UTC+0:20180304T090000
DTEND;TZID=UTC+0:20180304T090000
DTSTAMP:20260420T005648
CREATED:20180122T160357Z
LAST-MODIFIED:20180122T160357Z
UID:3495-1520154000-1520154000@corridasderuars.com.br
SUMMARY:1º Circuito Municipal de Corridas de Rua - 1ª Etapa
DESCRIPTION:
URL:https://corridasderuars.com.br/evento/1o-circuito-municipal-de-corridas-de-rua-1a-etapa/
CATEGORIES:5km
ATTACH;FMTTYPE=image/jpeg:https://corridasderuars.com.br/wp-content/uploads/2017/07/bg1-1.jpg
END:VEVENT
END:VCALENDAR