BEGIN:VCALENDAR
VERSION:2.0
PRODID:-//Corridas de Rua - RS - ECPv4.5.7//NONSGML v1.0//EN
CALSCALE:GREGORIAN
METHOD:PUBLISH
X-WR-CALNAME:Corridas de Rua - RS
X-ORIGINAL-URL:https://corridasderuars.com.br
X-WR-CALDESC:Events for Corridas de Rua - RS
BEGIN:VEVENT
DTSTART;TZID=UTC+0:20171022T090000
DTEND;TZID=UTC+0:20171022T090000
DTSTAMP:20260420T065630
CREATED:20170801T200711Z
LAST-MODIFIED:20170801T200711Z
UID:2611-1508662800-1508662800@corridasderuars.com.br
SUMMARY:1º CIRCUITO DE CORRIDA DE RUA
DESCRIPTION:
URL:https://corridasderuars.com.br/evento/1o-circuito-de-corrida-de-rua/
CATEGORIES:3km,6km
ATTACH;FMTTYPE=image/jpeg:https://corridasderuars.com.br/wp-content/uploads/2017/07/bg33.jpg
END:VEVENT
END:VCALENDAR