BEGIN:VCALENDAR
VERSION:2.0
PRODID:-//Corridas de Rua - RS - ECPv4.5.7//NONSGML v1.0//EN
CALSCALE:GREGORIAN
METHOD:PUBLISH
X-WR-CALNAME:Corridas de Rua - RS
X-ORIGINAL-URL:https://corridasderuars.com.br
X-WR-CALDESC:Events for Corridas de Rua - RS
BEGIN:VEVENT
DTSTART;TZID=UTC+0:20210418T090000
DTEND;TZID=UTC+0:20210418T090000
DTSTAMP:20260421T113416
CREATED:20210301T143656Z
LAST-MODIFIED:20210301T143656Z
UID:7062-1618736400-1618736400@corridasderuars.com.br
SUMMARY:1º Circuito Correr e Caminhar pela Saúde Unimed Altos da Serra - 1ª Etapa
DESCRIPTION:
URL:https://corridasderuars.com.br/evento/1o-circuito-correr-e-caminhar-pela-saude-unimed-altos-da-serra-1a-etapa/
CATEGORIES:5km
ATTACH;FMTTYPE=image/jpeg:https://corridasderuars.com.br/wp-content/uploads/2017/12/bg63.jpg
END:VEVENT
END:VCALENDAR