BEGIN:VCALENDAR
VERSION:2.0
PRODID:-//Corridas de Rua - RS - ECPv4.5.7//NONSGML v1.0//EN
CALSCALE:GREGORIAN
METHOD:PUBLISH
X-WR-CALNAME:Corridas de Rua - RS
X-ORIGINAL-URL:https://corridasderuars.com.br
X-WR-CALDESC:Events for Corridas de Rua - RS
BEGIN:VEVENT
DTSTART;TZID=UTC+0:20180923T093000
DTEND;TZID=UTC+0:20180923T093000
DTSTAMP:20260419T231713
CREATED:20180723T131648Z
LAST-MODIFIED:20180723T131648Z
UID:4056-1537695000-1537695000@corridasderuars.com.br
SUMMARY:1ª Trial Desafio do Morro São João
DESCRIPTION:
URL:https://corridasderuars.com.br/evento/1a-trial-desafio-do-morro-sao-joao/
CATEGORIES:5km
ATTACH;FMTTYPE=image/jpeg:https://corridasderuars.com.br/wp-content/uploads/2017/07/bgCountry2.jpg
END:VEVENT
END:VCALENDAR