BEGIN:VCALENDAR
VERSION:2.0
PRODID:-//Corridas de Rua - RS - ECPv4.5.7//NONSGML v1.0//EN
CALSCALE:GREGORIAN
METHOD:PUBLISH
X-WR-CALNAME:Corridas de Rua - RS
X-ORIGINAL-URL:https://corridasderuars.com.br
X-WR-CALDESC:Events for Corridas de Rua - RS
BEGIN:VEVENT
DTSTART;TZID=UTC+0:20190228T083000
DTEND;TZID=UTC+0:20190228T083000
DTSTAMP:20260419T200652
CREATED:20190125T144648Z
LAST-MODIFIED:20190125T144648Z
UID:4781-1551342600-1551342600@corridasderuars.com.br
SUMMARY:1ª Rústica Tapera - Cidade Cultura/Sesc
DESCRIPTION:
URL:https://corridasderuars.com.br/evento/1a-rustica-tapera-cidade-culturasesc/
CATEGORIES:5km
ATTACH;FMTTYPE=image/jpeg:https://corridasderuars.com.br/wp-content/uploads/2018/10/bg86.jpg
END:VEVENT
END:VCALENDAR