BEGIN:VCALENDAR
VERSION:2.0
PRODID:-//Corridas de Rua - RS - ECPv4.5.7//NONSGML v1.0//EN
CALSCALE:GREGORIAN
METHOD:PUBLISH
X-WR-CALNAME:Corridas de Rua - RS
X-ORIGINAL-URL:https://corridasderuars.com.br
X-WR-CALDESC:Events for Corridas de Rua - RS
BEGIN:VEVENT
DTSTART;TZID=UTC+0:20171001T090000
DTEND;TZID=UTC+0:20171001T090000
DTSTAMP:20260420T070807
CREATED:20170903T144821Z
LAST-MODIFIED:20170903T145437Z
UID:2760-1506848400-1506848400@corridasderuars.com.br
SUMMARY:1ª Rústica SOVA
DESCRIPTION:
URL:https://corridasderuars.com.br/evento/1a-rustica-sova/
CATEGORIES:4km,8km
ATTACH;FMTTYPE=image/jpeg:https://corridasderuars.com.br/wp-content/uploads/2017/07/bg3-1.jpg
END:VEVENT
END:VCALENDAR