BEGIN:VCALENDAR
VERSION:2.0
PRODID:-//Corridas de Rua - RS - ECPv4.5.7//NONSGML v1.0//EN
CALSCALE:GREGORIAN
METHOD:PUBLISH
X-WR-CALNAME:Corridas de Rua - RS
X-ORIGINAL-URL:https://corridasderuars.com.br
X-WR-CALDESC:Events for Corridas de Rua - RS
BEGIN:VEVENT
DTSTART;TZID=UTC+0:20190414T090000
DTEND;TZID=UTC+0:20190414T090000
DTSTAMP:20260419T164154
CREATED:20190325T134230Z
LAST-MODIFIED:20190325T134230Z
UID:4950-1555232400-1555232400@corridasderuars.com.br
SUMMARY:1ª Rústica Sesc da Saúde de Boa Vista do Buricá
DESCRIPTION:
URL:https://corridasderuars.com.br/evento/1a-rustica-sesc-da-saude-de-boa-vista-do-burica/
CATEGORIES:5km
ATTACH;FMTTYPE=image/jpeg:https://corridasderuars.com.br/wp-content/uploads/2018/10/bg87.jpg
END:VEVENT
END:VCALENDAR