BEGIN:VCALENDAR
VERSION:2.0
PRODID:-//Corridas de Rua - RS - ECPv4.5.7//NONSGML v1.0//EN
CALSCALE:GREGORIAN
METHOD:PUBLISH
X-WR-CALNAME:Corridas de Rua - RS
X-ORIGINAL-URL:https://corridasderuars.com.br
X-WR-CALDESC:Events for Corridas de Rua - RS
BEGIN:VEVENT
DTSTART;TZID=UTC+0:20181209T090000
DTEND;TZID=UTC+0:20181209T090000
DTSTAMP:20260419T213950
CREATED:20181016T120623Z
LAST-MODIFIED:20181016T120623Z
UID:4378-1544346000-1544346000@corridasderuars.com.br
SUMMARY:1ª Rústica Pádua Run
DESCRIPTION:
URL:https://corridasderuars.com.br/evento/1a-rustica-padua-run/
CATEGORIES:8km
ATTACH;FMTTYPE=image/jpeg:https://corridasderuars.com.br/wp-content/uploads/2018/10/bg88.jpg
END:VEVENT
END:VCALENDAR