BEGIN:VCALENDAR
VERSION:2.0
PRODID:-//Corridas de Rua - RS - ECPv4.5.7//NONSGML v1.0//EN
CALSCALE:GREGORIAN
METHOD:PUBLISH
X-WR-CALNAME:Corridas de Rua - RS
X-ORIGINAL-URL:https://corridasderuars.com.br
X-WR-CALDESC:Events for Corridas de Rua - RS
BEGIN:VEVENT
DTSTART;TZID=UTC+0:20180922T160000
DTEND;TZID=UTC+0:20180922T160000
DTSTAMP:20260419T213652
CREATED:20180821T131714Z
LAST-MODIFIED:20180821T131714Z
UID:4154-1537632000-1537632000@corridasderuars.com.br
SUMMARY:1ª Rústica OAB
DESCRIPTION:
URL:https://corridasderuars.com.br/evento/1a-rustica-oab/
CATEGORIES:2.1km,4.8km
ATTACH;FMTTYPE=image/jpeg:https://corridasderuars.com.br/wp-content/uploads/2017/12/bg55.jpg
END:VEVENT
END:VCALENDAR