BEGIN:VCALENDAR
VERSION:2.0
PRODID:-//Corridas de Rua - RS - ECPv4.5.7//NONSGML v1.0//EN
CALSCALE:GREGORIAN
METHOD:PUBLISH
X-WR-CALNAME:Corridas de Rua - RS
X-ORIGINAL-URL:https://corridasderuars.com.br
X-WR-CALDESC:Events for Corridas de Rua - RS
BEGIN:VEVENT
DTSTART;TZID=UTC+0:20181118T090000
DTEND;TZID=UTC+0:20181118T090000
DTSTAMP:20260419T213945
CREATED:20181029T154129Z
LAST-MODIFIED:20181029T154442Z
UID:4460-1542531600-1542531600@corridasderuars.com.br
SUMMARY:1ª Rústica Jogos do Sesi
DESCRIPTION:
URL:https://corridasderuars.com.br/evento/1a-rustica-jogos-do-sesi/
CATEGORIES:5km
ATTACH;FMTTYPE=image/jpeg:https://corridasderuars.com.br/wp-content/uploads/2018/10/bg86.jpg
END:VEVENT
END:VCALENDAR