BEGIN:VCALENDAR
VERSION:2.0
PRODID:-//Corridas de Rua - RS - ECPv4.5.7//NONSGML v1.0//EN
CALSCALE:GREGORIAN
METHOD:PUBLISH
X-WR-CALNAME:Corridas de Rua - RS
X-ORIGINAL-URL:https://corridasderuars.com.br
X-WR-CALDESC:Events for Corridas de Rua - RS
BEGIN:VEVENT
DTSTART;TZID=UTC+0:20171015T090000
DTEND;TZID=UTC+0:20171015T090000
DTSTAMP:20260420T072451
CREATED:20170811T200836Z
LAST-MODIFIED:20170811T200836Z
UID:2645-1508058000-1508058000@corridasderuars.com.br
SUMMARY:1ª Rústica Fecoarti
DESCRIPTION:
URL:https://corridasderuars.com.br/evento/1a-rustica-fecoarti/
CATEGORIES:10km,3km,5km
ATTACH;FMTTYPE=image/jpeg:https://corridasderuars.com.br/wp-content/uploads/2017/07/bg19-1.jpg
END:VEVENT
END:VCALENDAR