BEGIN:VCALENDAR
VERSION:2.0
PRODID:-//Corridas de Rua - RS - ECPv4.5.7//NONSGML v1.0//EN
CALSCALE:GREGORIAN
METHOD:PUBLISH
X-WR-CALNAME:Corridas de Rua - RS
X-ORIGINAL-URL:https://corridasderuars.com.br
X-WR-CALDESC:Events for Corridas de Rua - RS
BEGIN:VEVENT
DTSTART;TZID=UTC+0:20190414T093000
DTEND;TZID=UTC+0:20190414T093000
DTSTAMP:20260419T180240
CREATED:20190301T191922Z
LAST-MODIFIED:20190301T191922Z
UID:4904-1555234200-1555234200@corridasderuars.com.br
SUMMARY:1ª Rústica e Caminhada Transcitrus
DESCRIPTION:
URL:https://corridasderuars.com.br/evento/1a-rustica-e-caminhada-transcitrus/
CATEGORIES:12.5km,6.5km
ATTACH;FMTTYPE=image/jpeg:https://corridasderuars.com.br/wp-content/uploads/2018/10/bg84.jpg
END:VEVENT
END:VCALENDAR