BEGIN:VCALENDAR
VERSION:2.0
PRODID:-//Corridas de Rua - RS - ECPv4.5.7//NONSGML v1.0//EN
CALSCALE:GREGORIAN
METHOD:PUBLISH
X-WR-CALNAME:Corridas de Rua - RS
X-ORIGINAL-URL:https://corridasderuars.com.br
X-WR-CALDESC:Events for Corridas de Rua - RS
BEGIN:VEVENT
DTSTART;TZID=UTC+0:20171021T090000
DTEND;TZID=UTC+0:20171021T090000
DTSTAMP:20260420T072441
CREATED:20170925T123529Z
LAST-MODIFIED:20170925T123615Z
UID:2850-1508576400-1508576400@corridasderuars.com.br
SUMMARY:1ª Rústica do Colégio Glória
DESCRIPTION:No dia 20 de outubro de 2017 inicia oficialmente o ano de comemorações dos 90 anos do Colégio Nossa Senhora da Glória. Para marcar este momento\, acontecerá\, no dia 21 de outubro (sábado) a 1ª Rústica do Colégio Glória. \nO evento acontecerá a partir das 9h\, na pista de atletismo do Parque Esportivo da PUCRS (acesso pela Av. Prof. Cristiano Fischer). A Rústica terá corridas por categorias e contará com a participação de professores do Colégio. \nEstudantes\, familiares\, ex-estudantes glorienses e toda comunidade escolar estão convidados a participar da Rústica e comemorar conosco os 90 anos de fundação do Colégio Glória. \nAs inscrições são realizadas na tesouraria do Colégio\, do dia 25 de setembro ao dia 10 de outubro\, em horário comercial. O valor da inscrição é de R$40\,00 e equivale a aquisição da camiseta do evento. Todos os participantes inscritos ganharão\, ainda\, uma medalha ao final da sua corrida. \n
URL:https://corridasderuars.com.br/evento/1a-rustica-do-colegio-gloria/
ATTACH;FMTTYPE=image/jpeg:https://corridasderuars.com.br/wp-content/uploads/2017/07/bgCrianca.jpg
END:VEVENT
END:VCALENDAR