BEGIN:VCALENDAR
VERSION:2.0
PRODID:-//Corridas de Rua - RS - ECPv4.5.7//NONSGML v1.0//EN
CALSCALE:GREGORIAN
METHOD:PUBLISH
X-WR-CALNAME:Corridas de Rua - RS
X-ORIGINAL-URL:https://corridasderuars.com.br
X-WR-CALDESC:Events for Corridas de Rua - RS
BEGIN:VEVENT
DTSTART;TZID=UTC+0:20180603T090000
DTEND;TZID=UTC+0:20180603T090000
DTSTAMP:20260420T034806
CREATED:20180427T125809Z
LAST-MODIFIED:20180427T125809Z
UID:3815-1528016400-1528016400@corridasderuars.com.br
SUMMARY:1ª Rústica do Amor
DESCRIPTION:
URL:https://corridasderuars.com.br/evento/1a-rustica-do-amor/
CATEGORIES:5km
ATTACH;FMTTYPE=image/jpeg:https://corridasderuars.com.br/wp-content/uploads/2017/07/bg23-1.jpg
END:VEVENT
END:VCALENDAR