BEGIN:VCALENDAR
VERSION:2.0
PRODID:-//Corridas de Rua - RS - ECPv4.5.7//NONSGML v1.0//EN
CALSCALE:GREGORIAN
METHOD:PUBLISH
X-WR-CALNAME:Corridas de Rua - RS
X-ORIGINAL-URL:https://corridasderuars.com.br
X-WR-CALDESC:Events for Corridas de Rua - RS
BEGIN:VEVENT
DTSTART;TZID=UTC+0:20211121T080000
DTEND;TZID=UTC+0:20211121T080000
DTSTAMP:20260421T114730
CREATED:20210929T130457Z
LAST-MODIFIED:20210929T130457Z
UID:7401-1637481600-1637481600@corridasderuars.com.br
SUMMARY:1ª Rústica Azul e Rosa de Vacaria
DESCRIPTION:
URL:https://corridasderuars.com.br/evento/1a-rustica-azul-e-rosa-de-vacaria/
CATEGORIES:7km
ATTACH;FMTTYPE=image/jpeg:https://corridasderuars.com.br/wp-content/uploads/2017/07/bg29-1.jpg
END:VEVENT
END:VCALENDAR