BEGIN:VCALENDAR
VERSION:2.0
PRODID:-//Corridas de Rua - RS - ECPv4.5.7//NONSGML v1.0//EN
CALSCALE:GREGORIAN
METHOD:PUBLISH
X-WR-CALNAME:Corridas de Rua - RS
X-ORIGINAL-URL:https://corridasderuars.com.br
X-WR-CALDESC:Events for Corridas de Rua - RS
BEGIN:VEVENT
DTSTART;TZID=UTC+0:20170820T080000
DTEND;TZID=UTC+0:20170820T080000
DTSTAMP:20260420T065816
CREATED:20170710T183158Z
LAST-MODIFIED:20170710T183158Z
UID:2358-1503216000-1503216000@corridasderuars.com.br
SUMMARY:1ª Rústica Alusiva aos 180 Anos da Brigada Militar
DESCRIPTION:
URL:https://corridasderuars.com.br/evento/1a-rustica-alusiva-aos-180-anos-da-brigada-militar/
CATEGORIES:10km,3.5km,6km
ATTACH;FMTTYPE=image/jpeg:https://corridasderuars.com.br/wp-content/uploads/2017/07/bg21-1.jpg
END:VEVENT
END:VCALENDAR