BEGIN:VCALENDAR
VERSION:2.0
PRODID:-//Corridas de Rua - RS - ECPv4.5.7//NONSGML v1.0//EN
CALSCALE:GREGORIAN
METHOD:PUBLISH
X-WR-CALNAME:Corridas de Rua - RS
X-ORIGINAL-URL:https://corridasderuars.com.br
X-WR-CALDESC:Events for Corridas de Rua - RS
BEGIN:VEVENT
DTSTART;TZID=UTC+0:20181014T083000
DTEND;TZID=UTC+0:20181014T083000
DTSTAMP:20260419T232425
CREATED:20180710T193320Z
LAST-MODIFIED:20180710T193320Z
UID:4013-1539505800-1539505800@corridasderuars.com.br
SUMMARY:1ª Meia Maratona Terra dos Poetas
DESCRIPTION:
URL:https://corridasderuars.com.br/evento/1a-meia-maratona-terra-dos-poetas/
CATEGORIES:21km,5km
ATTACH;FMTTYPE=image/jpeg:https://corridasderuars.com.br/wp-content/uploads/2017/07/bg22-1.jpg
END:VEVENT
END:VCALENDAR