BEGIN:VCALENDAR
VERSION:2.0
PRODID:-//Corridas de Rua - RS - ECPv4.5.7//NONSGML v1.0//EN
CALSCALE:GREGORIAN
METHOD:PUBLISH
X-WR-CALNAME:Corridas de Rua - RS
X-ORIGINAL-URL:https://corridasderuars.com.br
X-WR-CALDESC:Events for Corridas de Rua - RS
BEGIN:VEVENT
DTSTART;TZID=UTC+0:20260321T200000
DTEND;TZID=UTC+0:20260321T200000
DTSTAMP:20260420T102915
CREATED:20260225T123105Z
LAST-MODIFIED:20260225T123105Z
UID:13982-1774123200-1774123200@corridasderuars.com.br
SUMMARY:1ª Etapa Circuito Rosariense de Corridas
DESCRIPTION:
URL:https://corridasderuars.com.br/evento/1a-etapa-circuito-rosariense-de-corridas/
CATEGORIES:5km
ATTACH;FMTTYPE=image/jpeg:https://corridasderuars.com.br/wp-content/uploads/2017/07/bg37.jpg
END:VEVENT
END:VCALENDAR