BEGIN:VCALENDAR
VERSION:2.0
PRODID:-//Corridas de Rua - RS - ECPv4.5.7//NONSGML v1.0//EN
CALSCALE:GREGORIAN
METHOD:PUBLISH
X-WR-CALNAME:Corridas de Rua - RS
X-ORIGINAL-URL:https://corridasderuars.com.br
X-WR-CALDESC:Events for Corridas de Rua - RS
BEGIN:VEVENT
DTSTART;TZID=UTC+0:20181012T160000
DTEND;TZID=UTC+0:20181012T160000
DTSTAMP:20260419T233359
CREATED:20181001T140205Z
LAST-MODIFIED:20181001T140205Z
UID:4312-1539360000-1539360000@corridasderuars.com.br
SUMMARY:1ª Corrida/Caminhada da Família e 1ª Corrida Kids Dia da Criança
DESCRIPTION:
URL:https://corridasderuars.com.br/evento/1a-corridacaminhada-da-familia-e-1a-corrida-kids-dia-da-crianca/
ATTACH;FMTTYPE=image/jpeg:https://corridasderuars.com.br/wp-content/uploads/2017/07/bg18-1.jpg
END:VEVENT
END:VCALENDAR