BEGIN:VCALENDAR
VERSION:2.0
PRODID:-//Corridas de Rua - RS - ECPv4.5.7//NONSGML v1.0//EN
CALSCALE:GREGORIAN
METHOD:PUBLISH
X-WR-CALNAME:Corridas de Rua - RS
X-ORIGINAL-URL:https://corridasderuars.com.br
X-WR-CALDESC:Events for Corridas de Rua - RS
BEGIN:VEVENT
DTSTART;TZID=UTC+0:20171126T103000
DTEND;TZID=UTC+0:20171126T103000
DTSTAMP:20260420T053113
CREATED:20171025T185121Z
LAST-MODIFIED:20171111T121026Z
UID:2981-1511692200-1511692200@corridasderuars.com.br
SUMMARY:3ª Rústica Unimed Região da Fronteira
DESCRIPTION:
URL:https://corridasderuars.com.br/evento/1a-corrida-rustica-unimed-regiao-da-fronteira/
CATEGORIES:6km
ATTACH;FMTTYPE=image/jpeg:https://corridasderuars.com.br/wp-content/uploads/2017/07/bg10-1.jpg
END:VEVENT
END:VCALENDAR