BEGIN:VCALENDAR
VERSION:2.0
PRODID:-//Corridas de Rua - RS - ECPv4.5.7//NONSGML v1.0//EN
CALSCALE:GREGORIAN
METHOD:PUBLISH
X-WR-CALNAME:Corridas de Rua - RS
X-ORIGINAL-URL:https://corridasderuars.com.br
X-WR-CALDESC:Events for Corridas de Rua - RS
BEGIN:VEVENT
DTSTART;TZID=UTC+0:20180415T083000
DTEND;TZID=UTC+0:20180415T083000
DTSTAMP:20260420T040521
CREATED:20180302T172104Z
LAST-MODIFIED:20180302T172104Z
UID:3625-1523781000-1523781000@corridasderuars.com.br
SUMMARY:1ª Corrida Rústica e Caminhada 237
DESCRIPTION:
URL:https://corridasderuars.com.br/evento/1a-corrida-rustica-e-caminhada-237/
CATEGORIES:5km
ATTACH;FMTTYPE=image/jpeg:https://corridasderuars.com.br/wp-content/uploads/2017/07/bg19-1.jpg
END:VEVENT
END:VCALENDAR