BEGIN:VCALENDAR
VERSION:2.0
PRODID:-//Corridas de Rua - RS - ECPv4.5.7//NONSGML v1.0//EN
CALSCALE:GREGORIAN
METHOD:PUBLISH
X-WR-CALNAME:Corridas de Rua - RS
X-ORIGINAL-URL:https://corridasderuars.com.br
X-WR-CALDESC:Events for Corridas de Rua - RS
BEGIN:VEVENT
DTSTART;TZID=UTC+0:20191006T090000
DTEND;TZID=UTC+0:20191006T090000
DTSTAMP:20260422T085841
CREATED:20190729T192047Z
LAST-MODIFIED:20190729T192200Z
UID:5471-1570352400-1570352400@corridasderuars.com.br
SUMMARY:1ª Corrida Personal Fit
DESCRIPTION:
URL:https://corridasderuars.com.br/evento/1a-corrida-personal-fit/
CATEGORIES:3km,6km
ATTACH;FMTTYPE=image/jpeg:https://corridasderuars.com.br/wp-content/uploads/2017/12/bg62.jpg
END:VEVENT
END:VCALENDAR