BEGIN:VCALENDAR
VERSION:2.0
PRODID:-//Corridas de Rua - RS - ECPv4.5.7//NONSGML v1.0//EN
CALSCALE:GREGORIAN
METHOD:PUBLISH
X-WR-CALNAME:Corridas de Rua - RS
X-ORIGINAL-URL:https://corridasderuars.com.br
X-WR-CALDESC:Events for Corridas de Rua - RS
BEGIN:VEVENT
DTSTART;TZID=UTC+0:20180923T090000
DTEND;TZID=UTC+0:20180923T090000
DTSTAMP:20260420T034901
CREATED:20180706T172751Z
LAST-MODIFIED:20180706T172751Z
UID:4003-1537693200-1537693200@corridasderuars.com.br
SUMMARY:1ª Corrida Nova Geração
DESCRIPTION:
URL:https://corridasderuars.com.br/evento/1a-corrida-nova-geracao/
CATEGORIES:5km
ATTACH;FMTTYPE=image/jpeg:https://corridasderuars.com.br/wp-content/uploads/2017/12/bg57.jpg
END:VEVENT
END:VCALENDAR