BEGIN:VCALENDAR
VERSION:2.0
PRODID:-//Corridas de Rua - RS - ECPv4.5.7//NONSGML v1.0//EN
CALSCALE:GREGORIAN
METHOD:PUBLISH
X-WR-CALNAME:Corridas de Rua - RS
X-ORIGINAL-URL:https://corridasderuars.com.br
X-WR-CALDESC:Events for Corridas de Rua - RS
BEGIN:VEVENT
DTSTART;TZID=UTC+0:20181124T200000
DTEND;TZID=UTC+0:20181124T200000
DTSTAMP:20260421T115048
CREATED:20181024T204605Z
LAST-MODIFIED:20181024T204605Z
UID:4419-1543089600-1543089600@corridasderuars.com.br
SUMMARY:1ª Corrida Noturna da ACM Livramento
DESCRIPTION:
URL:https://corridasderuars.com.br/evento/1a-corrida-noturna-da-acm-livramento/
CATEGORIES:5km
ATTACH;FMTTYPE=image/jpeg:https://corridasderuars.com.br/wp-content/uploads/2018/10/bg85.jpg
END:VEVENT
END:VCALENDAR