BEGIN:VCALENDAR
VERSION:2.0
PRODID:-//Corridas de Rua - RS - ECPv4.5.7//NONSGML v1.0//EN
CALSCALE:GREGORIAN
METHOD:PUBLISH
X-WR-CALNAME:Corridas de Rua - RS
X-ORIGINAL-URL:https://corridasderuars.com.br
X-WR-CALDESC:Events for Corridas de Rua - RS
BEGIN:VEVENT
DTSTART;TZID=UTC+0:20170916T083000
DTEND;TZID=UTC+0:20170916T083000
DTSTAMP:20260420T084617
CREATED:20170804T173152Z
LAST-MODIFIED:20170804T173152Z
UID:2625-1505550600-1505550600@corridasderuars.com.br
SUMMARY:1ª Corrida e Caminhada da Clínica Biomédica Bio Life e Salute
DESCRIPTION:
URL:https://corridasderuars.com.br/evento/1a-corrida-e-caminhada-da-clinica-biomedica-bio-life-e-salute/
ATTACH;FMTTYPE=image/jpeg:https://corridasderuars.com.br/wp-content/uploads/2017/07/bg25-1.jpg
END:VEVENT
END:VCALENDAR